BEGIN:VCALENDAR
VERSION:2.0
PRODID:-//Plone.org//NONSGML plone.app.event//EN
X-WR-TIMEZONE:Europe/Rome
BEGIN:VEVENT
SUMMARY:“Figli in cielo”
DTSTART;TZID=Europe/Rome;VALUE=DATE-TIME:20120615T160000
DTEND;TZID=Europe/Rome;VALUE=DATE-TIME:20120615T180000
DTSTAMP;VALUE=DATE-TIME:20260421T122646Z
UID:5d7dbcc29cd113f6d39659977b091766
CATEGORIES:Incontro
CREATED;VALUE=DATE-TIME:20120517T154443Z
LAST-MODIFIED;VALUE=DATE-TIME:20120518T024049Z
LOCATION:Cattedrale - Bari
URL:https://www.arcidiocesibaribitonto.it/events/201cfigli-in-cielo201d-6
END:VEVENT
BEGIN:VTIMEZONE
TZID:Europe/Rome
X-LIC-LOCATION:Europe/Rome
BEGIN:DAYLIGHT
DTSTART;VALUE=DATE-TIME:20120325T030000
TZNAME:CEST
TZOFFSETFROM:+0100
TZOFFSETTO:+0200
END:DAYLIGHT
END:VTIMEZONE
END:VCALENDAR
