BEGIN:VCALENDAR
VERSION:2.0
PRODID:-//Plone.org//NONSGML plone.app.event//EN
X-WR-TIMEZONE:Europe/Rome
BEGIN:VEVENT
SUMMARY:Adorazione Monastero S. Giuseppe
DTSTART;TZID=Europe/Rome;VALUE=DATE-TIME:20120928T200000
DTEND;TZID=Europe/Rome;VALUE=DATE-TIME:20120928T210000
DTSTAMP;VALUE=DATE-TIME:20260420T062644Z
UID:a7833fa5555773964e669e23247e88d0
CATEGORIES:Ora di Adorazione
CREATED;VALUE=DATE-TIME:20120805T175150Z
LAST-MODIFIED;VALUE=DATE-TIME:20120806T183532Z
LOCATION:Monastero Carmelitano S. Giuseppe - Bari
URL:https://www.arcidiocesibaribitonto.it/events/adorazione-monastero-s.-g
 iuseppe
END:VEVENT
BEGIN:VTIMEZONE
TZID:Europe/Rome
X-LIC-LOCATION:Europe/Rome
BEGIN:DAYLIGHT
DTSTART;VALUE=DATE-TIME:20120325T030000
TZNAME:CEST
TZOFFSETFROM:+0100
TZOFFSETTO:+0200
END:DAYLIGHT
END:VTIMEZONE
END:VCALENDAR
