BEGIN:VCALENDAR
VERSION:2.0
PRODID:-//Plone.org//NONSGML plone.app.event//EN
X-WR-TIMEZONE:Europe/Rome
BEGIN:VEVENT
SUMMARY:Agenda dell'Arcivescovo
DTSTART;TZID=Europe/Rome;VALUE=DATE-TIME:20130502T170000
DTEND;TZID=Europe/Rome;VALUE=DATE-TIME:20130502T183000
DTSTAMP;VALUE=DATE-TIME:20260420T084853Z
UID:c5eb6cd575e04c60b6bd64001802a7da
CATEGORIES:Incontro-Festa
CREATED;VALUE=DATE-TIME:20130422T171247Z
LAST-MODIFIED;VALUE=DATE-TIME:20130422T171324Z
LOCATION:Cattedrale - Bari
URL:https://www.arcidiocesibaribitonto.it/events/agenda-dell-arcivescovo-2
END:VEVENT
BEGIN:VTIMEZONE
TZID:Europe/Rome
X-LIC-LOCATION:Europe/Rome
BEGIN:DAYLIGHT
DTSTART;VALUE=DATE-TIME:20130331T030000
TZNAME:CEST
TZOFFSETFROM:+0100
TZOFFSETTO:+0200
END:DAYLIGHT
END:VTIMEZONE
END:VCALENDAR
