BEGIN:VCALENDAR
VERSION:2.0
PRODID:-//Plone.org//NONSGML plone.app.event//EN
X-WR-TIMEZONE:Europe/Rome
BEGIN:VEVENT
SUMMARY:Agenda dell'Arcivescovo
DTSTART;TZID=Europe/Rome;VALUE=DATE-TIME:20130913T190000
DTEND;TZID=Europe/Rome;VALUE=DATE-TIME:20130913T200000
DTSTAMP;VALUE=DATE-TIME:20260425T060452Z
UID:561fc5346b244e21beb0dff408d569fd
CATEGORIES:S. Messa
CREATED;VALUE=DATE-TIME:20130811T170448Z
LAST-MODIFIED;VALUE=DATE-TIME:20130811T170457Z
LOCATION:Parrocchia S. Croce - Bari
URL:https://www.arcidiocesibaribitonto.it/events/agenda-dell-arcivescovo-7
 1
END:VEVENT
BEGIN:VTIMEZONE
TZID:Europe/Rome
X-LIC-LOCATION:Europe/Rome
BEGIN:DAYLIGHT
DTSTART;VALUE=DATE-TIME:20130331T030000
TZNAME:CEST
TZOFFSETFROM:+0100
TZOFFSETTO:+0200
END:DAYLIGHT
END:VTIMEZONE
END:VCALENDAR
