BEGIN:VCALENDAR
VERSION:2.0
PRODID:-//Plone.org//NONSGML plone.app.event//EN
X-WR-TIMEZONE:Europe/Rome
BEGIN:VEVENT
SUMMARY:Agricoltura e sfruttamento dei lavoratori
DTSTART;TZID=Europe/Rome;VALUE=DATE-TIME:20161118T191500
DTEND;TZID=Europe/Rome;VALUE=DATE-TIME:20161118T210000
DTSTAMP;VALUE=DATE-TIME:20260420T202426Z
UID:da8f90e272e14f02bfa5f4f05caf1e95
CATEGORIES:Dibattito
CREATED;VALUE=DATE-TIME:20161109T215543Z
LAST-MODIFIED;VALUE=DATE-TIME:20161109T215559Z
LOCATION:Parrocchia Madre della Divina Provvidenza - Bari
URL:https://www.arcidiocesibaribitonto.it/events/agricoltura-e-sfruttament
 o-dei-lavoratori
END:VEVENT
BEGIN:VTIMEZONE
TZID:Europe/Rome
X-LIC-LOCATION:Europe/Rome
BEGIN:STANDARD
DTSTART;VALUE=DATE-TIME:20161030T020000
TZNAME:CET
TZOFFSETFROM:+0200
TZOFFSETTO:+0100
END:STANDARD
END:VTIMEZONE
END:VCALENDAR
