BEGIN:VCALENDAR
VERSION:2.0
PRODID:-//Plone.org//NONSGML plone.app.event//EN
X-WR-TIMEZONE:Europe/Rome
BEGIN:VEVENT
SUMMARY:Ammissione agli Ordini Sacri
DTSTART;TZID=Europe/Rome;VALUE=DATE-TIME:20250427T110000
DTEND;TZID=Europe/Rome;VALUE=DATE-TIME:20250427T120000
DTSTAMP;VALUE=DATE-TIME:20260424T021513Z
UID:9ef7ea255f1040998c62a966b04193f8
CATEGORIES:S. Messa
CATEGORIES:Ammissione agli Ordini sacri
CATEGORIES:Agenda dell'Arcivescovo
CREATED;VALUE=DATE-TIME:20250405T072151Z
LAST-MODIFIED;VALUE=DATE-TIME:20250407T133506Z
LOCATION:Concattedrale - Bitonto
URL:https://www.arcidiocesibaribitonto.it/events/ammissione-agli-ordini-sa
 cri-3
END:VEVENT
BEGIN:VTIMEZONE
TZID:Europe/Rome
X-LIC-LOCATION:Europe/Rome
BEGIN:DAYLIGHT
DTSTART;VALUE=DATE-TIME:20250330T030000
TZNAME:CEST
TZOFFSETFROM:+0100
TZOFFSETTO:+0200
END:DAYLIGHT
END:VTIMEZONE
END:VCALENDAR
