BEGIN:VCALENDAR
VERSION:2.0
PRODID:-//Plone.org//NONSGML plone.app.event//EN
X-WR-TIMEZONE:Europe/Rome
BEGIN:VEVENT
SUMMARY:Animatori Musicali della Liturgia
DTSTART;TZID=Europe/Rome;VALUE=DATE-TIME:20111005T160000
DTEND;TZID=Europe/Rome;VALUE=DATE-TIME:20111005T193000
DTSTAMP;VALUE=DATE-TIME:20260420T130917Z
UID:771cba29bf67bafcf2f09b38d7a89eb5
CATEGORIES:Scuola Animatori Musicali
CREATED;VALUE=DATE-TIME:20110920T153758Z
DESCRIPTION:Ripresa delle lezioni
LAST-MODIFIED;VALUE=DATE-TIME:20120927T040632Z
LOCATION:Seminario - Bari
URL:https://www.arcidiocesibaribitonto.it/events/animatori-musicali-della-
 liturgia
END:VEVENT
BEGIN:VTIMEZONE
TZID:Europe/Rome
X-LIC-LOCATION:Europe/Rome
BEGIN:DAYLIGHT
DTSTART;VALUE=DATE-TIME:20110327T030000
TZNAME:CEST
TZOFFSETFROM:+0100
TZOFFSETTO:+0200
END:DAYLIGHT
END:VTIMEZONE
END:VCALENDAR
