BEGIN:VCALENDAR
VERSION:2.0
PRODID:-//Plone.org//NONSGML plone.app.event//EN
X-WR-TIMEZONE:Europe/Rome
BEGIN:VEVENT
SUMMARY:Anniversario Parrocchia S. Nicola
DTSTART;TZID=Europe/Rome;VALUE=DATE-TIME:20170426T190000
DTEND;TZID=Europe/Rome;VALUE=DATE-TIME:20170426T200000
DTSTAMP;VALUE=DATE-TIME:20260420T053939Z
UID:e2aa2e2ffd97410785fde5aa966655f7
CATEGORIES:Agenda dell'Arcivescovo
CATEGORIES:S. Messa
CATEGORIES:Anniversario Chiesa
CREATED;VALUE=DATE-TIME:20170317T140921Z
LAST-MODIFIED;VALUE=DATE-TIME:20170317T140932Z
LOCATION:Parrocchia San Nicola - Bari Catino
URL:https://www.arcidiocesibaribitonto.it/events/anniversario-parrocchia-s
 -nicola
END:VEVENT
BEGIN:VTIMEZONE
TZID:Europe/Rome
X-LIC-LOCATION:Europe/Rome
BEGIN:DAYLIGHT
DTSTART;VALUE=DATE-TIME:20170326T030000
TZNAME:CEST
TZOFFSETFROM:+0100
TZOFFSETTO:+0200
END:DAYLIGHT
END:VTIMEZONE
END:VCALENDAR
