BEGIN:VCALENDAR
VERSION:2.0
PRODID:-//Plone.org//NONSGML plone.app.event//EN
X-WR-TIMEZONE:Europe/Rome
BEGIN:VEVENT
SUMMARY:Apertura Anno Associativo CVS
DTSTART;TZID=Europe/Rome;VALUE=DATE-TIME:20181028T093000
DTEND;TZID=Europe/Rome;VALUE=DATE-TIME:20181028T160000
DTSTAMP;VALUE=DATE-TIME:20260420T130743Z
UID:8df179fbd2d14d27bc97580ff0186f89
CATEGORIES:Formazione gruppi CVS
CREATED;VALUE=DATE-TIME:20180920T074858Z
LAST-MODIFIED;VALUE=DATE-TIME:20180920T074904Z
LOCATION:Sede CVS Bari
URL:https://www.arcidiocesibaribitonto.it/events/apertura-anno-associativo
 -cvs
END:VEVENT
BEGIN:VTIMEZONE
TZID:Europe/Rome
X-LIC-LOCATION:Europe/Rome
BEGIN:STANDARD
DTSTART;VALUE=DATE-TIME:20181028T020000
TZNAME:CET
TZOFFSETFROM:+0200
TZOFFSETTO:+0100
END:STANDARD
END:VTIMEZONE
END:VCALENDAR
