BEGIN:VCALENDAR
VERSION:2.0
PRODID:-//Plone.org//NONSGML plone.app.event//EN
X-WR-TIMEZONE:Europe/Rome
BEGIN:VEVENT
SUMMARY:Assemblea Generale CEI
DTSTART;VALUE=DATE:20220523
DTEND;VALUE=DATE:20220528
DTSTAMP;VALUE=DATE-TIME:20260421T102425Z
UID:a601d2a24394420e811e8714dd33f457
CATEGORIES:Assemblea Generale C.E.I.
CATEGORIES:Agenda dell'Arcivescovo
CREATED;VALUE=DATE-TIME:20220501T151852Z
LAST-MODIFIED;VALUE=DATE-TIME:20220501T151858Z
LOCATION:Roma
URL:https://www.arcidiocesibaribitonto.it/events/assemblea-generale-cei-6
END:VEVENT
END:VCALENDAR
