BEGIN:VCALENDAR
VERSION:2.0
PRODID:-//Plone.org//NONSGML plone.app.event//EN
X-WR-TIMEZONE:Europe/Rome
BEGIN:VEVENT
SUMMARY:Azione Liturgica della Passione del Signore
DTSTART;TZID=Europe/Rome;VALUE=DATE-TIME:20170414T183000
DTEND;TZID=Europe/Rome;VALUE=DATE-TIME:20170414T200000
DTSTAMP;VALUE=DATE-TIME:20260422T175203Z
UID:86d026e333da4b8088ac108e8563a3c7
CATEGORIES:Azione liturgica della Passione del Signore
CATEGORIES:Agenda dell'Arcivescovo
CREATED;VALUE=DATE-TIME:20170317T144010Z
LAST-MODIFIED;VALUE=DATE-TIME:20170317T144016Z
LOCATION:Cattedrale - Bari
URL:https://www.arcidiocesibaribitonto.it/events/azione-liturgica-della-pa
 ssione-del-signore
END:VEVENT
BEGIN:VTIMEZONE
TZID:Europe/Rome
X-LIC-LOCATION:Europe/Rome
BEGIN:DAYLIGHT
DTSTART;VALUE=DATE-TIME:20170326T030000
TZNAME:CEST
TZOFFSETFROM:+0100
TZOFFSETTO:+0200
END:DAYLIGHT
END:VTIMEZONE
END:VCALENDAR
