BEGIN:VCALENDAR
VERSION:2.0
PRODID:-//Plone.org//NONSGML plone.app.event//EN
X-WR-TIMEZONE:Europe/Rome
BEGIN:VEVENT
SUMMARY:Benedizione e Messa delle Palme
DTSTART;TZID=Europe/Rome;VALUE=DATE-TIME:20240324T103000
DTEND;TZID=Europe/Rome;VALUE=DATE-TIME:20240324T123000
DTSTAMP;VALUE=DATE-TIME:20260420T053848Z
UID:466ac9a8dda34383807110b6262dea22
CATEGORIES:Messa delle Palme
CATEGORIES:Agenda dell'Arcivescovo
CREATED;VALUE=DATE-TIME:20240302T105542Z
LAST-MODIFIED;VALUE=DATE-TIME:20240302T105547Z
LOCATION:Chiesa Ss. Medici e Cattedrale - Bari
URL:https://www.arcidiocesibaribitonto.it/events/benedizione-e-messa-delle
 -palme
END:VEVENT
BEGIN:VTIMEZONE
TZID:Europe/Rome
X-LIC-LOCATION:Europe/Rome
BEGIN:STANDARD
DTSTART;VALUE=DATE-TIME:20231029T020000
TZNAME:CET
TZOFFSETFROM:+0200
TZOFFSETTO:+0100
END:STANDARD
END:VTIMEZONE
END:VCALENDAR
