BEGIN:VCALENDAR
VERSION:2.0
PRODID:-//Plone.org//NONSGML plone.app.event//EN
X-WR-TIMEZONE:Europe/Rome
BEGIN:VEVENT
SUMMARY:Caritas diocesana
DTSTART;TZID=Europe/Rome;VALUE=DATE-TIME:20100416T190000
DTEND;TZID=Europe/Rome;VALUE=DATE-TIME:20100416T213000
DTSTAMP;VALUE=DATE-TIME:20260421T111955Z
UID:730bb22a9dde4814c2c0da8395d406ee
CATEGORIES:Formazione operatori pastorali della carità
CREATED;VALUE=DATE-TIME:20100316T152627Z
DESCRIPTION:Corso
LAST-MODIFIED;VALUE=DATE-TIME:20130317T044745Z
LOCATION:Dormitorio "don Vito Diana" - Bari
URL:https://www.arcidiocesibaribitonto.it/events/caritas-diocesana-1
END:VEVENT
BEGIN:VTIMEZONE
TZID:Europe/Rome
X-LIC-LOCATION:Europe/Rome
BEGIN:DAYLIGHT
DTSTART;VALUE=DATE-TIME:20100328T030000
TZNAME:CEST
TZOFFSETFROM:+0100
TZOFFSETTO:+0200
END:DAYLIGHT
END:VTIMEZONE
END:VCALENDAR
