BEGIN:VCALENDAR
VERSION:2.0
PRODID:-//Plone.org//NONSGML plone.app.event//EN
X-WR-TIMEZONE:Europe/Rome
BEGIN:VEVENT
SUMMARY:Catechesi comunitaria
DTSTART;TZID=Europe/Rome;VALUE=DATE-TIME:20190409T183000
DTEND;TZID=Europe/Rome;VALUE=DATE-TIME:20190409T193000
DTSTAMP;VALUE=DATE-TIME:20260421T110047Z
UID:2906100cae09490dab7d310696af4447
CATEGORIES:Catechesi
CATEGORIES:Agenda dell'Arcivescovo
CREATED;VALUE=DATE-TIME:20190316T135759Z
LAST-MODIFIED;VALUE=DATE-TIME:20190316T135805Z
LOCATION:Parrocchia Martiri di Abitene - Bitonto
URL:https://www.arcidiocesibaribitonto.it/events/catechesi-comunitaria-10
END:VEVENT
BEGIN:VTIMEZONE
TZID:Europe/Rome
X-LIC-LOCATION:Europe/Rome
BEGIN:DAYLIGHT
DTSTART;VALUE=DATE-TIME:20190331T030000
TZNAME:CEST
TZOFFSETFROM:+0100
TZOFFSETTO:+0200
END:DAYLIGHT
END:VTIMEZONE
END:VCALENDAR
