BEGIN:VCALENDAR
VERSION:2.0
PRODID:-//Plone.org//NONSGML plone.app.event//EN
X-WR-TIMEZONE:Europe/Rome
BEGIN:VEVENT
SUMMARY:Cenacolo UAC
DTSTART;TZID=Europe/Rome;VALUE=DATE-TIME:20260130T103000
DTEND;TZID=Europe/Rome;VALUE=DATE-TIME:20260130T133000
DTSTAMP;VALUE=DATE-TIME:20260422T175040Z
UID:79c61b51997d46e5b7cb01a3b991df33
CATEGORIES:Cenacolo mensile UAC
CREATED;VALUE=DATE-TIME:20260121T133043Z
LAST-MODIFIED;VALUE=DATE-TIME:20260121T133100Z
LOCATION:Parrocchia Santa Maria Assunta - Grumo Appula
URL:https://www.arcidiocesibaribitonto.it/events/cenacolo-uac-42
END:VEVENT
BEGIN:VTIMEZONE
TZID:Europe/Rome
X-LIC-LOCATION:Europe/Rome
BEGIN:STANDARD
DTSTART;VALUE=DATE-TIME:20251026T020000
TZNAME:CET
TZOFFSETFROM:+0200
TZOFFSETTO:+0100
END:STANDARD
END:VTIMEZONE
END:VCALENDAR
