BEGIN:VCALENDAR
VERSION:2.0
PRODID:-//Plone.org//NONSGML plone.app.event//EN
X-WR-TIMEZONE:Europe/Rome
BEGIN:VEVENT
SUMMARY:Ciclo di incontri su Genesi
DTSTART;TZID=Europe/Rome;VALUE=DATE-TIME:20200130T194500
DTEND;TZID=Europe/Rome;VALUE=DATE-TIME:20200130T210000
DTSTAMP;VALUE=DATE-TIME:20260420T224531Z
UID:fa166f71ea904c0392689db8819375d0
CATEGORIES:Incontro di spiritualità
CATEGORIES:Esegesi
CATEGORIES:Agenda dell'Arcivescovo
CREATED;VALUE=DATE-TIME:20191212T140146Z
LAST-MODIFIED;VALUE=DATE-TIME:20191212T143611Z
LOCATION:Cattedrale - Bari
URL:https://www.arcidiocesibaribitonto.it/events/ciclo-di-incontri-su-gene
 si-1
END:VEVENT
BEGIN:VTIMEZONE
TZID:Europe/Rome
X-LIC-LOCATION:Europe/Rome
BEGIN:STANDARD
DTSTART;VALUE=DATE-TIME:20191027T020000
TZNAME:CET
TZOFFSETFROM:+0200
TZOFFSETTO:+0100
END:STANDARD
END:VTIMEZONE
END:VCALENDAR
