BEGIN:VCALENDAR
VERSION:2.0
PRODID:-//Plone.org//NONSGML plone.app.event//EN
X-WR-TIMEZONE:Europe/Rome
BEGIN:VEVENT
SUMMARY:Consiglio Diocesano Affari Economici
DTSTART;TZID=Europe/Rome;VALUE=DATE-TIME:20241025T160000
DTEND;TZID=Europe/Rome;VALUE=DATE-TIME:20241025T170000
DTSTAMP;VALUE=DATE-TIME:20260421T120029Z
UID:7012304724d3492db406e4828a78d299
CATEGORIES:Incontro
CREATED;VALUE=DATE-TIME:20241021T074940Z
LAST-MODIFIED;VALUE=DATE-TIME:20241021T074944Z
LOCATION:Curia Arcivescovile - Bari
URL:https://www.arcidiocesibaribitonto.it/events/consiglio-diocesano-affar
 i-economici-2
END:VEVENT
BEGIN:VTIMEZONE
TZID:Europe/Rome
X-LIC-LOCATION:Europe/Rome
BEGIN:DAYLIGHT
DTSTART;VALUE=DATE-TIME:20240331T030000
TZNAME:CEST
TZOFFSETFROM:+0100
TZOFFSETTO:+0200
END:DAYLIGHT
END:VTIMEZONE
END:VCALENDAR
