BEGIN:VCALENDAR
VERSION:2.0
PRODID:-//Plone.org//NONSGML plone.app.event//EN
X-WR-TIMEZONE:Europe/Rome
BEGIN:VEVENT
SUMMARY:Convegno alla Fiera del Levante
DTSTART;TZID=Europe/Rome;VALUE=DATE-TIME:20180912T100000
DTEND;TZID=Europe/Rome;VALUE=DATE-TIME:20180912T120000
DTSTAMP;VALUE=DATE-TIME:20260421T103833Z
UID:0c18aa1225ef470da4a7e5566eb0e18f
CATEGORIES:Convegno
CATEGORIES:Agenda dell'Arcivescovo
CREATED;VALUE=DATE-TIME:20180810T091759Z
LAST-MODIFIED;VALUE=DATE-TIME:20180810T091806Z
LOCATION:Fiera del Levante - Bari
URL:https://www.arcidiocesibaribitonto.it/events/convegno-alla-fiera-del-l
 evante
END:VEVENT
BEGIN:VTIMEZONE
TZID:Europe/Rome
X-LIC-LOCATION:Europe/Rome
BEGIN:DAYLIGHT
DTSTART;VALUE=DATE-TIME:20180325T030000
TZNAME:CEST
TZOFFSETFROM:+0100
TZOFFSETTO:+0200
END:DAYLIGHT
END:VTIMEZONE
END:VCALENDAR
