BEGIN:VCALENDAR
VERSION:2.0
PRODID:-//Plone.org//NONSGML plone.app.event//EN
X-WR-TIMEZONE:Europe/Rome
BEGIN:VEVENT
SUMMARY:Equipe diocesana esorcisti
DTSTART;TZID=Europe/Rome;VALUE=DATE-TIME:20231014T100000
DTEND;TZID=Europe/Rome;VALUE=DATE-TIME:20231014T110000
DTSTAMP;VALUE=DATE-TIME:20260419T235131Z
UID:645f19880a6f442ab9457ca75de4220f
CATEGORIES:Incontro
CATEGORIES:Agenda dell'Arcivescovo
CREATED;VALUE=DATE-TIME:20231004T073831Z
LAST-MODIFIED;VALUE=DATE-TIME:20231004T073836Z
LOCATION:Casa del Clero - Bari
URL:https://www.arcidiocesibaribitonto.it/events/equipe-diocesana-esorcist
 i
END:VEVENT
BEGIN:VTIMEZONE
TZID:Europe/Rome
X-LIC-LOCATION:Europe/Rome
BEGIN:DAYLIGHT
DTSTART;VALUE=DATE-TIME:20230326T030000
TZNAME:CEST
TZOFFSETFROM:+0100
TZOFFSETTO:+0200
END:DAYLIGHT
END:VTIMEZONE
END:VCALENDAR
