BEGIN:VCALENDAR
VERSION:2.0
PRODID:-//Plone.org//NONSGML plone.app.event//EN
X-WR-TIMEZONE:Europe/Rome
BEGIN:VEVENT
SUMMARY:Esercizi Spirituali Settore Giovani AC
DTSTART;TZID=Europe/Rome;VALUE=DATE-TIME:20150320T160000
DTEND;TZID=Europe/Rome;VALUE=DATE-TIME:20150322T160000
DTSTAMP;VALUE=DATE-TIME:20260420T110747Z
UID:40980d45e1ad42dc93c8ce49705931d8
CATEGORIES:Esercizi spirituali
CREATED;VALUE=DATE-TIME:20150220T224748Z
LAST-MODIFIED;VALUE=DATE-TIME:20150220T224758Z
LOCATION:Oasi Santa Maria” - Cassano Murge
URL:https://www.arcidiocesibaribitonto.it/events/esercizi-spirituali-setto
 re-giovani-ac
END:VEVENT
BEGIN:VTIMEZONE
TZID:Europe/Rome
X-LIC-LOCATION:Europe/Rome
BEGIN:STANDARD
DTSTART;VALUE=DATE-TIME:20141026T020000
TZNAME:CET
TZOFFSETFROM:+0200
TZOFFSETTO:+0100
END:STANDARD
END:VTIMEZONE
END:VCALENDAR
