BEGIN:VCALENDAR
VERSION:2.0
PRODID:-//Plone.org//NONSGML plone.app.event//EN
X-WR-TIMEZONE:Europe/Rome
BEGIN:VEVENT
SUMMARY:Agenda dell'Arcivescovo
DTSTART;TZID=Europe/Rome;VALUE=DATE-TIME:20110304T183000
DTEND;TZID=Europe/Rome;VALUE=DATE-TIME:20110304T193000
DTSTAMP;VALUE=DATE-TIME:20260421T123207Z
UID:8ea1398bd2f7002ccde548727f4e9f4c
CATEGORIES:S. Messa
CREATED;VALUE=DATE-TIME:20110221T171614Z
DESCRIPTION:Solennità di Maria SS. di Costantinopoli “ODEGITRIA”
LAST-MODIFIED;VALUE=DATE-TIME:20120229T095905Z
LOCATION:Cattedrale - Bari
URL:https://www.arcidiocesibaribitonto.it/events/event.2011-02-21.48001895
 39
END:VEVENT
BEGIN:VTIMEZONE
TZID:Europe/Rome
X-LIC-LOCATION:Europe/Rome
BEGIN:STANDARD
DTSTART;VALUE=DATE-TIME:20101031T020000
TZNAME:CET
TZOFFSETFROM:+0200
TZOFFSETTO:+0100
END:STANDARD
END:VTIMEZONE
END:VCALENDAR
