BEGIN:VCALENDAR
VERSION:2.0
PRODID:-//Plone.org//NONSGML plone.app.event//EN
X-WR-TIMEZONE:Europe/Rome
BEGIN:VEVENT
SUMMARY:Agenda dell'Arcivescovo
DTSTART;TZID=Europe/Rome;VALUE=DATE-TIME:20111128T190000
DTEND;TZID=Europe/Rome;VALUE=DATE-TIME:20111128T210000
DTSTAMP;VALUE=DATE-TIME:20260420T131038Z
UID:f2464e24627c4d795c88ef650fa60567
CATEGORIES:Tavola rotonda
CREATED;VALUE=DATE-TIME:20111029T215323Z
DESCRIPTION:Tavola Rotonda
LAST-MODIFIED;VALUE=DATE-TIME:20121110T174312Z
LOCATION:Parrocchia Maria Ss. del Rosario - Bari
URL:https://www.arcidiocesibaribitonto.it/events/event.2011-10-29.10401987
 69
END:VEVENT
BEGIN:VTIMEZONE
TZID:Europe/Rome
X-LIC-LOCATION:Europe/Rome
BEGIN:STANDARD
DTSTART;VALUE=DATE-TIME:20111030T020000
TZNAME:CET
TZOFFSETFROM:+0200
TZOFFSETTO:+0100
END:STANDARD
END:VTIMEZONE
END:VCALENDAR
