BEGIN:VCALENDAR
VERSION:2.0
PRODID:-//Plone.org//NONSGML plone.app.event//EN
X-WR-TIMEZONE:Europe/Rome
BEGIN:VEVENT
SUMMARY:Agenda dell'Arcivescovo
DTSTART;TZID=Europe/Rome;VALUE=DATE-TIME:20111210T120000
DTEND;TZID=Europe/Rome;VALUE=DATE-TIME:20111210T130000
DTSTAMP;VALUE=DATE-TIME:20260421T115612Z
UID:630c9c5db72d7843a6e68aa9af87ae90
CATEGORIES:Incontro
CREATED;VALUE=DATE-TIME:20111126T154613Z
DESCRIPTION:Incontro
LAST-MODIFIED;VALUE=DATE-TIME:20130119T211734Z
LOCATION:Arcivescovado - Bari
URL:https://www.arcidiocesibaribitonto.it/events/event.2011-11-26.24591605
 34
END:VEVENT
BEGIN:VTIMEZONE
TZID:Europe/Rome
X-LIC-LOCATION:Europe/Rome
BEGIN:STANDARD
DTSTART;VALUE=DATE-TIME:20111030T020000
TZNAME:CET
TZOFFSETFROM:+0200
TZOFFSETTO:+0100
END:STANDARD
END:VTIMEZONE
END:VCALENDAR
