BEGIN:VCALENDAR
VERSION:2.0
PRODID:-//Plone.org//NONSGML plone.app.event//EN
X-WR-TIMEZONE:Europe/Rome
BEGIN:VEVENT
SUMMARY:Agenda dell'Arcivescovo
DTSTART;TZID=Europe/Rome;VALUE=DATE-TIME:20121117T170000
DTEND;TZID=Europe/Rome;VALUE=DATE-TIME:20121117T190000
DTSTAMP;VALUE=DATE-TIME:20260420T224951Z
UID:55818c1f8b7fce21ca8508a521a57ec7
CATEGORIES:Conferimento Cresime
CREATED;VALUE=DATE-TIME:20121028T175212Z
LAST-MODIFIED;VALUE=DATE-TIME:20121117T123048Z
LOCATION:Cattedrale - Bari
URL:https://www.arcidiocesibaribitonto.it/events/event.2012-10-28.64453353
 70
END:VEVENT
BEGIN:VTIMEZONE
TZID:Europe/Rome
X-LIC-LOCATION:Europe/Rome
BEGIN:STANDARD
DTSTART;VALUE=DATE-TIME:20121028T020000
TZNAME:CET
TZOFFSETFROM:+0200
TZOFFSETTO:+0100
END:STANDARD
END:VTIMEZONE
END:VCALENDAR
