BEGIN:VCALENDAR
VERSION:2.0
PRODID:-//Plone.org//NONSGML plone.app.event//EN
X-WR-TIMEZONE:Europe/Rome
BEGIN:VEVENT
SUMMARY:Agenda dell'Arcivescovo
DTSTART;TZID=Europe/Rome;VALUE=DATE-TIME:20130122T170000
DTEND;TZID=Europe/Rome;VALUE=DATE-TIME:20130122T190000
DTSTAMP;VALUE=DATE-TIME:20260425T123936Z
UID:bfc0bf0cf537a142efd4854c8e43659e
CATEGORIES:Incontro-Festa
CREATED;VALUE=DATE-TIME:20121218T201948Z
LAST-MODIFIED;VALUE=DATE-TIME:20130122T022829Z
LOCATION:Paolini - Bari
URL:https://www.arcidiocesibaribitonto.it/events/event.2012-12-18.91049763
 19
END:VEVENT
BEGIN:VTIMEZONE
TZID:Europe/Rome
X-LIC-LOCATION:Europe/Rome
BEGIN:STANDARD
DTSTART;VALUE=DATE-TIME:20121028T020000
TZNAME:CET
TZOFFSETFROM:+0200
TZOFFSETTO:+0100
END:STANDARD
END:VTIMEZONE
END:VCALENDAR
