BEGIN:VCALENDAR
VERSION:2.0
PRODID:-//Plone.org//NONSGML plone.app.event//EN
X-WR-TIMEZONE:Europe/Rome
BEGIN:VEVENT
SUMMARY:Agenda dell'Arcivescovo
DTSTART;TZID=Europe/Rome;VALUE=DATE-TIME:20130328T100000
DTEND;TZID=Europe/Rome;VALUE=DATE-TIME:20130328T120000
DTSTAMP;VALUE=DATE-TIME:20260420T130749Z
UID:d804ff2cd0130b1b0ee35ea3a2ed938e
CATEGORIES:Messa Crismale.
CREATED;VALUE=DATE-TIME:20130221T155357Z
LAST-MODIFIED;VALUE=DATE-TIME:20130325T020611Z
LOCATION:Cattedrale - Bari
URL:https://www.arcidiocesibaribitonto.it/events/event.2013-02-21.96468045
 33
END:VEVENT
BEGIN:VTIMEZONE
TZID:Europe/Rome
X-LIC-LOCATION:Europe/Rome
BEGIN:STANDARD
DTSTART;VALUE=DATE-TIME:20121028T020000
TZNAME:CET
TZOFFSETFROM:+0200
TZOFFSETTO:+0100
END:STANDARD
END:VTIMEZONE
END:VCALENDAR
