BEGIN:VCALENDAR
VERSION:2.0
PRODID:-//Plone.org//NONSGML plone.app.event//EN
X-WR-TIMEZONE:Europe/Rome
BEGIN:VEVENT
SUMMARY:Agenda dell'Arcivescovo
DTSTART;TZID=Europe/Rome;VALUE=DATE-TIME:20140224T093000
DTEND;TZID=Europe/Rome;VALUE=DATE-TIME:20140224T120000
DTSTAMP;VALUE=DATE-TIME:20260421T121943Z
UID:304db834df344c0293b0d33d0167f884
CATEGORIES:Incontro
CREATED;VALUE=DATE-TIME:20140124T153232Z
LAST-MODIFIED;VALUE=DATE-TIME:20140124T153420Z
LOCATION:Facoltà Teologica - Molfetta
URL:https://www.arcidiocesibaribitonto.it/events/event.2014-01-24.47529840
 72
END:VEVENT
BEGIN:VTIMEZONE
TZID:Europe/Rome
X-LIC-LOCATION:Europe/Rome
BEGIN:STANDARD
DTSTART;VALUE=DATE-TIME:20131027T020000
TZNAME:CET
TZOFFSETFROM:+0200
TZOFFSETTO:+0100
END:STANDARD
END:VTIMEZONE
END:VCALENDAR
