BEGIN:VCALENDAR
VERSION:2.0
PRODID:-//Plone.org//NONSGML plone.app.event//EN
X-WR-TIMEZONE:Europe/Rome
BEGIN:VEVENT
SUMMARY:Agenda dell'Arcivescovo
DTSTART;TZID=Europe/Rome;VALUE=DATE-TIME:20140526T170000
DTEND;TZID=Europe/Rome;VALUE=DATE-TIME:20140526T180000
DTSTAMP;VALUE=DATE-TIME:20260425T172612Z
UID:e06d001945b14f648dccf67c0536fea1
CATEGORIES:S. Messa
CREATED;VALUE=DATE-TIME:20140425T083440Z
LAST-MODIFIED;VALUE=DATE-TIME:20140425T083450Z
LOCATION:Parrocchia S. Maria Maggiore - Gioia del Colle
URL:https://www.arcidiocesibaribitonto.it/events/event.2014-04-25.78678062
 97
END:VEVENT
BEGIN:VTIMEZONE
TZID:Europe/Rome
X-LIC-LOCATION:Europe/Rome
BEGIN:DAYLIGHT
DTSTART;VALUE=DATE-TIME:20140330T030000
TZNAME:CEST
TZOFFSETFROM:+0100
TZOFFSETTO:+0200
END:DAYLIGHT
END:VTIMEZONE
END:VCALENDAR
