BEGIN:VCALENDAR
VERSION:2.0
PRODID:-//Plone.org//NONSGML plone.app.event//EN
X-WR-TIMEZONE:Europe/Rome
BEGIN:VEVENT
SUMMARY:Agenda dell'Arcivescovo
DTSTART;TZID=Europe/Rome;VALUE=DATE-TIME:20141220T173000
DTEND;TZID=Europe/Rome;VALUE=DATE-TIME:20141220T183000
DTSTAMP;VALUE=DATE-TIME:20260421T115601Z
UID:b3b566ed71324568952d485d146c2ffc
CATEGORIES:Incontro
CREATED;VALUE=DATE-TIME:20141129T223943Z
LAST-MODIFIED;VALUE=DATE-TIME:20141129T223955Z
URL:https://www.arcidiocesibaribitonto.it/events/event.2014-11-29.71865043
 88
END:VEVENT
BEGIN:VTIMEZONE
TZID:Europe/Rome
X-LIC-LOCATION:Europe/Rome
BEGIN:STANDARD
DTSTART;VALUE=DATE-TIME:20141026T020000
TZNAME:CET
TZOFFSETFROM:+0200
TZOFFSETTO:+0100
END:STANDARD
END:VTIMEZONE
END:VCALENDAR
