BEGIN:VCALENDAR
VERSION:2.0
PRODID:-//Plone.org//NONSGML plone.app.event//EN
X-WR-TIMEZONE:Europe/Rome
BEGIN:VEVENT
SUMMARY:Agenda dell'Arcivescovo
DTSTART;TZID=Europe/Rome;VALUE=DATE-TIME:20150110T163000
DTEND;TZID=Europe/Rome;VALUE=DATE-TIME:20150110T180000
DTSTAMP;VALUE=DATE-TIME:20260421T121630Z
UID:f18842a7ab0e4c0da250f14d020ceb05
CATEGORIES:Incontro
CREATED;VALUE=DATE-TIME:20141228T215959Z
LAST-MODIFIED;VALUE=DATE-TIME:20141228T220007Z
URL:https://www.arcidiocesibaribitonto.it/events/event.2014-12-28.93274047
 85
END:VEVENT
BEGIN:VTIMEZONE
TZID:Europe/Rome
X-LIC-LOCATION:Europe/Rome
BEGIN:STANDARD
DTSTART;VALUE=DATE-TIME:20141026T020000
TZNAME:CET
TZOFFSETFROM:+0200
TZOFFSETTO:+0100
END:STANDARD
END:VTIMEZONE
END:VCALENDAR
