BEGIN:VCALENDAR
VERSION:2.0
PRODID:-//Plone.org//NONSGML plone.app.event//EN
X-WR-TIMEZONE:Europe/Rome
BEGIN:VEVENT
SUMMARY:Agenda dell'Arcivescovo
DTSTART;TZID=Europe/Rome;VALUE=DATE-TIME:20150421T190000
DTEND;TZID=Europe/Rome;VALUE=DATE-TIME:20150421T200000
DTSTAMP;VALUE=DATE-TIME:20260425T142328Z
UID:9aba49ae6ce04012b9ea1625e10f9a99
CATEGORIES:Anniversario di sacerdozio
CREATED;VALUE=DATE-TIME:20150325T173844Z
LAST-MODIFIED;VALUE=DATE-TIME:20150325T173852Z
LOCATION:Parrocchia S. Cuore - Bari
URL:https://www.arcidiocesibaribitonto.it/events/event.2015-03-25.04662768
 62
END:VEVENT
BEGIN:VTIMEZONE
TZID:Europe/Rome
X-LIC-LOCATION:Europe/Rome
BEGIN:DAYLIGHT
DTSTART;VALUE=DATE-TIME:20150329T030000
TZNAME:CEST
TZOFFSETFROM:+0100
TZOFFSETTO:+0200
END:DAYLIGHT
END:VTIMEZONE
END:VCALENDAR
