BEGIN:VCALENDAR
VERSION:2.0
PRODID:-//Plone.org//NONSGML plone.app.event//EN
X-WR-TIMEZONE:Europe/Rome
BEGIN:VEVENT
SUMMARY:Agenda dell'Arcivescovo
DTSTART;TZID=Europe/Rome;VALUE=DATE-TIME:20160124T180000
DTEND;TZID=Europe/Rome;VALUE=DATE-TIME:20160124T190000
DTSTAMP;VALUE=DATE-TIME:20260422T104030Z
UID:23e785711992479f968874989b4364de
CATEGORIES:Incontro di preghiera
CREATED;VALUE=DATE-TIME:20151217T162803Z
LAST-MODIFIED;VALUE=DATE-TIME:20151217T162811Z
LOCATION:Basilica San Nicola - Bari
URL:https://www.arcidiocesibaribitonto.it/events/event.2015-12-17.60642949
 74
END:VEVENT
BEGIN:VTIMEZONE
TZID:Europe/Rome
X-LIC-LOCATION:Europe/Rome
BEGIN:STANDARD
DTSTART;VALUE=DATE-TIME:20151025T020000
TZNAME:CET
TZOFFSETFROM:+0200
TZOFFSETTO:+0100
END:STANDARD
END:VTIMEZONE
END:VCALENDAR
