BEGIN:VCALENDAR
VERSION:2.0
PRODID:-//Plone.org//NONSGML plone.app.event//EN
X-WR-TIMEZONE:Europe/Rome
BEGIN:VEVENT
SUMMARY:Festa dei Popoli
DTSTART;TZID=Europe/Rome;VALUE=DATE-TIME:20220522T210000
DTEND;TZID=Europe/Rome;VALUE=DATE-TIME:20220522T223000
DTSTAMP;VALUE=DATE-TIME:20260421T023138Z
UID:132f06b150774616b71482d74398f8e9
CATEGORIES:Incontro-Festa
CATEGORIES:Agenda dell'Arcivescovo
CREATED;VALUE=DATE-TIME:20220501T151656Z
LAST-MODIFIED;VALUE=DATE-TIME:20220501T151703Z
LOCATION:Giardino Princigalli - Bari
URL:https://www.arcidiocesibaribitonto.it/events/festa-dei-popoli-6
END:VEVENT
BEGIN:VTIMEZONE
TZID:Europe/Rome
X-LIC-LOCATION:Europe/Rome
BEGIN:DAYLIGHT
DTSTART;VALUE=DATE-TIME:20220327T030000
TZNAME:CEST
TZOFFSETFROM:+0100
TZOFFSETTO:+0200
END:DAYLIGHT
END:VTIMEZONE
END:VCALENDAR
