BEGIN:VCALENDAR
VERSION:2.0
PRODID:-//Plone.org//NONSGML plone.app.event//EN
X-WR-TIMEZONE:Europe/Rome
BEGIN:VEVENT
SUMMARY:Festa della Traslazione di San Nicola
DTSTART;TZID=Europe/Rome;VALUE=DATE-TIME:20190509T183000
DTEND;TZID=Europe/Rome;VALUE=DATE-TIME:20190509T193000
DTSTAMP;VALUE=DATE-TIME:20260425T024143Z
UID:66063dee26384c5d9c97a727175f7a7e
CATEGORIES:Festa di S. Nicola
CATEGORIES:Agenda dell'Arcivescovo
CREATED;VALUE=DATE-TIME:20190415T125111Z
LAST-MODIFIED;VALUE=DATE-TIME:20190415T125203Z
LOCATION:Basilica S. Nicola - Bari
URL:https://www.arcidiocesibaribitonto.it/events/festa-della-traslazione-d
 i-san-nicola
END:VEVENT
BEGIN:VTIMEZONE
TZID:Europe/Rome
X-LIC-LOCATION:Europe/Rome
BEGIN:DAYLIGHT
DTSTART;VALUE=DATE-TIME:20190331T030000
TZNAME:CEST
TZOFFSETFROM:+0100
TZOFFSETTO:+0200
END:DAYLIGHT
END:VTIMEZONE
END:VCALENDAR
