BEGIN:VCALENDAR
VERSION:2.0
PRODID:-//Plone.org//NONSGML plone.app.event//EN
X-WR-TIMEZONE:Europe/Rome
BEGIN:VEVENT
SUMMARY:Figli in cielo
DTSTART;TZID=Europe/Rome;VALUE=DATE-TIME:20180518T160000
DTEND;TZID=Europe/Rome;VALUE=DATE-TIME:20180518T173000
DTSTAMP;VALUE=DATE-TIME:20260421T115612Z
UID:08659112e5e24566916a8be1810c5f78
CATEGORIES:Incontro
CREATED;VALUE=DATE-TIME:20180416T063123Z
LAST-MODIFIED;VALUE=DATE-TIME:20180416T063127Z
LOCATION:Cattedrale - Bari
URL:https://www.arcidiocesibaribitonto.it/events/figli-in-cielo-14
END:VEVENT
BEGIN:VTIMEZONE
TZID:Europe/Rome
X-LIC-LOCATION:Europe/Rome
BEGIN:DAYLIGHT
DTSTART;VALUE=DATE-TIME:20180325T030000
TZNAME:CEST
TZOFFSETFROM:+0100
TZOFFSETTO:+0200
END:DAYLIGHT
END:VTIMEZONE
END:VCALENDAR
