BEGIN:VCALENDAR
VERSION:2.0
PRODID:-//Plone.org//NONSGML plone.app.event//EN
X-WR-TIMEZONE:Europe/Rome
BEGIN:VEVENT
SUMMARY:Formazione Permanente del Clero
DTSTART;TZID=Europe/Rome;VALUE=DATE-TIME:20250428T183000
DTEND;TZID=Europe/Rome;VALUE=DATE-TIME:20250428T200000
DTSTAMP;VALUE=DATE-TIME:20260424T022241Z
UID:ab88ff361f3646848bae8bda5a7bd010
CATEGORIES:Formazione permenente del clero
CATEGORIES:Agenda dell'Arcivescovo
CREATED;VALUE=DATE-TIME:20250405T072327Z
LAST-MODIFIED;VALUE=DATE-TIME:20250405T072331Z
URL:https://www.arcidiocesibaribitonto.it/events/formazione-permanente-del
 -clero-4
END:VEVENT
BEGIN:VTIMEZONE
TZID:Europe/Rome
X-LIC-LOCATION:Europe/Rome
BEGIN:DAYLIGHT
DTSTART;VALUE=DATE-TIME:20250330T030000
TZNAME:CEST
TZOFFSETFROM:+0100
TZOFFSETTO:+0200
END:DAYLIGHT
END:VTIMEZONE
END:VCALENDAR
