BEGIN:VCALENDAR
VERSION:2.0
PRODID:-//Plone.org//NONSGML plone.app.event//EN
X-WR-TIMEZONE:Europe/Rome
BEGIN:VEVENT
SUMMARY:Frammenti di Luce
DTSTART;TZID=Europe/Rome;VALUE=DATE-TIME:20100225T200000
DTEND;TZID=Europe/Rome;VALUE=DATE-TIME:20100225T220000
DTSTAMP;VALUE=DATE-TIME:20260422T104004Z
UID:68e5fe57ca76eec8a681e3a805cce4d1
CATEGORIES:Conferenza-Concerto
CREATED;VALUE=DATE-TIME:20100118T113740Z
DESCRIPTION:Conferenza Concerto
LAST-MODIFIED;VALUE=DATE-TIME:20130129T003320Z
LOCATION:Auditorium Fondazione Santi Medici - Bitonto
URL:https://www.arcidiocesibaribitonto.it/events/frammenti-di-luce-2
END:VEVENT
BEGIN:VTIMEZONE
TZID:Europe/Rome
X-LIC-LOCATION:Europe/Rome
BEGIN:STANDARD
DTSTART;VALUE=DATE-TIME:20091025T020000
TZNAME:CET
TZOFFSETFROM:+0200
TZOFFSETTO:+0100
END:STANDARD
END:VTIMEZONE
END:VCALENDAR
