BEGIN:VCALENDAR
VERSION:2.0
PRODID:-//Plone.org//NONSGML plone.app.event//EN
X-WR-TIMEZONE:Europe/Rome
BEGIN:VEVENT
SUMMARY:Giornata di formazione e di spiritualità
DTSTART;TZID=Europe/Rome;VALUE=DATE-TIME:20130317T110000
DTEND;TZID=Europe/Rome;VALUE=DATE-TIME:20130317T180000
DTSTAMP;VALUE=DATE-TIME:20260420T085539Z
UID:5f2ef0201dd34288bc54c52f9bfcf94d
CATEGORIES:Giornata di spiritualità
CREATED;VALUE=DATE-TIME:20130221T110317Z
LAST-MODIFIED;VALUE=DATE-TIME:20130222T134354Z
LOCATION:Missionarie P. Kolbe - Bari
URL:https://www.arcidiocesibaribitonto.it/events/giornata-di-formazione-e-
 di-spiritualita-1
END:VEVENT
BEGIN:VTIMEZONE
TZID:Europe/Rome
X-LIC-LOCATION:Europe/Rome
BEGIN:STANDARD
DTSTART;VALUE=DATE-TIME:20121028T020000
TZNAME:CET
TZOFFSETFROM:+0200
TZOFFSETTO:+0100
END:STANDARD
END:VTIMEZONE
END:VCALENDAR
