BEGIN:VCALENDAR
VERSION:2.0
PRODID:-//Plone.org//NONSGML plone.app.event//EN
X-WR-TIMEZONE:Europe/Rome
BEGIN:VEVENT
SUMMARY:Gruppi Vocazionali
DTSTART;TZID=Europe/Rome;VALUE=DATE-TIME:20130314T183000
DTEND;TZID=Europe/Rome;VALUE=DATE-TIME:20130314T220000
DTSTAMP;VALUE=DATE-TIME:20260422T103419Z
UID:3533517058299f9742c6ab1f58ef520b
CATEGORIES:Incontro discernimento vocazionale
CREATED;VALUE=DATE-TIME:20130220T183409Z
LAST-MODIFIED;VALUE=DATE-TIME:20130314T191600Z
LOCATION:Seminario Arcivescovile - Bari
URL:https://www.arcidiocesibaribitonto.it/events/gruppi-vocazionali-8
END:VEVENT
BEGIN:VTIMEZONE
TZID:Europe/Rome
X-LIC-LOCATION:Europe/Rome
BEGIN:STANDARD
DTSTART;VALUE=DATE-TIME:20121028T020000
TZNAME:CET
TZOFFSETFROM:+0200
TZOFFSETTO:+0100
END:STANDARD
END:VTIMEZONE
END:VCALENDAR
