BEGIN:VCALENDAR
VERSION:2.0
PRODID:-//Plone.org//NONSGML plone.app.event//EN
X-WR-TIMEZONE:Europe/Rome
BEGIN:VEVENT
SUMMARY:Gruppo Se Vuoi
DTSTART;TZID=Europe/Rome;VALUE=DATE-TIME:20161201T180000
DTEND;TZID=Europe/Rome;VALUE=DATE-TIME:20161201T220000
DTSTAMP;VALUE=DATE-TIME:20260421T085641Z
UID:283be971955647cab98d720a0ccc8d4b
CATEGORIES:Incontro discernimento vocazionale
CREATED;VALUE=DATE-TIME:20161118T091949Z
LAST-MODIFIED;VALUE=DATE-TIME:20161118T092648Z
LOCATION:Seminario Arcivescovile - Bari
URL:https://www.arcidiocesibaribitonto.it/events/gruppo-se-vuoi-20
END:VEVENT
BEGIN:VTIMEZONE
TZID:Europe/Rome
X-LIC-LOCATION:Europe/Rome
BEGIN:STANDARD
DTSTART;VALUE=DATE-TIME:20161030T020000
TZNAME:CET
TZOFFSETFROM:+0200
TZOFFSETTO:+0100
END:STANDARD
END:VTIMEZONE
END:VCALENDAR
