BEGIN:VCALENDAR
VERSION:2.0
PRODID:-//Plone.org//NONSGML plone.app.event//EN
X-WR-TIMEZONE:Europe/Rome
BEGIN:VEVENT
SUMMARY:Incontri con l'Autore: "La verità Papa"
DTSTART;TZID=Europe/Rome;VALUE=DATE-TIME:20101126T200000
DTEND;TZID=Europe/Rome;VALUE=DATE-TIME:20101126T213000
DTSTAMP;VALUE=DATE-TIME:20260421T000046Z
UID:5645a09b14998c446bfbb848d53dc5e5
CATEGORIES:Presentazione libro
CREATED;VALUE=DATE-TIME:20101103T091353Z
DESCRIPTION:Presentazione del libro: "La verità del Papa. Perchè lo atta
 ccano\, perchè va ascoltato"
LAST-MODIFIED;VALUE=DATE-TIME:20130316T025743Z
LOCATION:Parrocchia San Marcello - Bari
URL:https://www.arcidiocesibaribitonto.it/events/incontri-con-lautore-la-v
 erita-papa
END:VEVENT
BEGIN:VTIMEZONE
TZID:Europe/Rome
X-LIC-LOCATION:Europe/Rome
BEGIN:STANDARD
DTSTART;VALUE=DATE-TIME:20101031T020000
TZNAME:CET
TZOFFSETFROM:+0200
TZOFFSETTO:+0100
END:STANDARD
END:VTIMEZONE
END:VCALENDAR
