BEGIN:VCALENDAR
VERSION:2.0
PRODID:-//Plone.org//NONSGML plone.app.event//EN
X-WR-TIMEZONE:Europe/Rome
BEGIN:VEVENT
SUMMARY:Incontro all'Istituto Margherita
DTSTART;TZID=Europe/Rome;VALUE=DATE-TIME:20211215T160000
DTEND;TZID=Europe/Rome;VALUE=DATE-TIME:20211215T180000
DTSTAMP;VALUE=DATE-TIME:20260421T115941Z
UID:92ccfe03b4aa4ae78159a7f7741fd57e
CATEGORIES:Incontro
CATEGORIES:Agenda dell'Arcivescovo
CREATED;VALUE=DATE-TIME:20211114T205719Z
LAST-MODIFIED;VALUE=DATE-TIME:20211114T205723Z
LOCATION:Istituto Margherita - Bari
URL:https://www.arcidiocesibaribitonto.it/events/incontro-allistituto-marg
 herita
END:VEVENT
BEGIN:VTIMEZONE
TZID:Europe/Rome
X-LIC-LOCATION:Europe/Rome
BEGIN:STANDARD
DTSTART;VALUE=DATE-TIME:20211031T020000
TZNAME:CET
TZOFFSETFROM:+0200
TZOFFSETTO:+0100
END:STANDARD
END:VTIMEZONE
END:VCALENDAR
