BEGIN:VCALENDAR
VERSION:2.0
PRODID:-//Plone.org//NONSGML plone.app.event//EN
X-WR-TIMEZONE:Europe/Rome
BEGIN:VEVENT
SUMMARY:Incontro Consultori Regione Puglia
DTSTART;TZID=Europe/Rome;VALUE=DATE-TIME:20241026T100000
DTEND;TZID=Europe/Rome;VALUE=DATE-TIME:20241026T110000
DTSTAMP;VALUE=DATE-TIME:20260420T110439Z
UID:51900c1314cc4b3cbaa0df15a087b2d1
CATEGORIES:Incontro
CATEGORIES:Agenda dell'Arcivescovo
CREATED;VALUE=DATE-TIME:20241001T065848Z
LAST-MODIFIED;VALUE=DATE-TIME:20241001T065853Z
LOCATION:Seminario - Bari
URL:https://www.arcidiocesibaribitonto.it/events/incontro-consultori-regio
 ne-puglia
END:VEVENT
BEGIN:VTIMEZONE
TZID:Europe/Rome
X-LIC-LOCATION:Europe/Rome
BEGIN:DAYLIGHT
DTSTART;VALUE=DATE-TIME:20240331T030000
TZNAME:CEST
TZOFFSETFROM:+0100
TZOFFSETTO:+0200
END:DAYLIGHT
END:VTIMEZONE
END:VCALENDAR
