BEGIN:VCALENDAR
VERSION:2.0
PRODID:-//Plone.org//NONSGML plone.app.event//EN
X-WR-TIMEZONE:Europe/Rome
BEGIN:VEVENT
SUMMARY:Incontro di Formazione Ecumenica
DTSTART;TZID=Europe/Rome;VALUE=DATE-TIME:20110613T160000
DTEND;TZID=Europe/Rome;VALUE=DATE-TIME:20110613T180000
DTSTAMP;VALUE=DATE-TIME:20260420T153742Z
UID:25bbb3ee1dc0ed1ce28884bdfd9a0cf3
CATEGORIES:Formazione operatori pastorale ecumenica
CREATED;VALUE=DATE-TIME:20110510T152006Z
DESCRIPTION:Presso la Casa del Clero
LAST-MODIFIED;VALUE=DATE-TIME:20120516T213543Z
LOCATION:Casa del Clero - Bari
URL:https://www.arcidiocesibaribitonto.it/events/incontro-di-formazione-ec
 umenica-5
END:VEVENT
BEGIN:VTIMEZONE
TZID:Europe/Rome
X-LIC-LOCATION:Europe/Rome
BEGIN:DAYLIGHT
DTSTART;VALUE=DATE-TIME:20110327T030000
TZNAME:CEST
TZOFFSETFROM:+0100
TZOFFSETTO:+0200
END:DAYLIGHT
END:VTIMEZONE
END:VCALENDAR
