BEGIN:VCALENDAR
VERSION:2.0
PRODID:-//Plone.org//NONSGML plone.app.event//EN
X-WR-TIMEZONE:Europe/Rome
BEGIN:VEVENT
SUMMARY:Incontro Diaconi permanenti
DTSTART;TZID=Europe/Rome;VALUE=DATE-TIME:20120315T164500
DTEND;TZID=Europe/Rome;VALUE=DATE-TIME:20120315T200000
DTSTAMP;VALUE=DATE-TIME:20260420T110318Z
UID:bff31f85c1c0bee86a5a0f939e7e2ad6
CATEGORIES:Incontro diaconi permanenti
CREATED;VALUE=DATE-TIME:20120216T114145Z
LAST-MODIFIED;VALUE=DATE-TIME:20120307T080038Z
LOCATION:Oasi S. Martino - Bari
URL:https://www.arcidiocesibaribitonto.it/events/incontro-diaconi-permanen
 ti-11
END:VEVENT
BEGIN:VTIMEZONE
TZID:Europe/Rome
X-LIC-LOCATION:Europe/Rome
BEGIN:STANDARD
DTSTART;VALUE=DATE-TIME:20111030T020000
TZNAME:CET
TZOFFSETFROM:+0200
TZOFFSETTO:+0100
END:STANDARD
END:VTIMEZONE
END:VCALENDAR
