BEGIN:VCALENDAR
VERSION:2.0
PRODID:-//Plone.org//NONSGML plone.app.event//EN
X-WR-TIMEZONE:Europe/Rome
BEGIN:VEVENT
SUMMARY:Incontro diaconi permanenti
DTSTART;TZID=Europe/Rome;VALUE=DATE-TIME:20140424T170000
DTEND;TZID=Europe/Rome;VALUE=DATE-TIME:20140424T200000
DTSTAMP;VALUE=DATE-TIME:20260422T175433Z
UID:a24b6ea3cb1c4ea9a949c23dd3d04793
CATEGORIES:Incontro diaconi permanenti
CREATED;VALUE=DATE-TIME:20140327T100044Z
LAST-MODIFIED;VALUE=DATE-TIME:20140327T100058Z
LOCATION:Oasi S. Martino - Bari
URL:https://www.arcidiocesibaribitonto.it/events/incontro-diaconi-permanen
 ti-30
END:VEVENT
BEGIN:VTIMEZONE
TZID:Europe/Rome
X-LIC-LOCATION:Europe/Rome
BEGIN:DAYLIGHT
DTSTART;VALUE=DATE-TIME:20140330T030000
TZNAME:CEST
TZOFFSETFROM:+0100
TZOFFSETTO:+0200
END:DAYLIGHT
END:VTIMEZONE
END:VCALENDAR
