BEGIN:VCALENDAR
VERSION:2.0
PRODID:-//Plone.org//NONSGML plone.app.event//EN
X-WR-TIMEZONE:Europe/Rome
BEGIN:VEVENT
SUMMARY:Incontro Equipe delle Periferie
DTSTART;TZID=Europe/Rome;VALUE=DATE-TIME:20250620T100000
DTEND;TZID=Europe/Rome;VALUE=DATE-TIME:20250620T120000
DTSTAMP;VALUE=DATE-TIME:20260423T121721Z
UID:7973f5d7140a44a3967ed8eecefa8b73
CATEGORIES:Incontro
CATEGORIES:Agenda dell'Arcivescovo
CREATED;VALUE=DATE-TIME:20250605T065046Z
LAST-MODIFIED;VALUE=DATE-TIME:20250605T065051Z
LOCATION:Parrocchia San Luca - Bari-Japigia
URL:https://www.arcidiocesibaribitonto.it/events/incontro-equipe-delle-per
 iferie
END:VEVENT
BEGIN:VTIMEZONE
TZID:Europe/Rome
X-LIC-LOCATION:Europe/Rome
BEGIN:DAYLIGHT
DTSTART;VALUE=DATE-TIME:20250330T030000
TZNAME:CEST
TZOFFSETFROM:+0100
TZOFFSETTO:+0200
END:DAYLIGHT
END:VTIMEZONE
END:VCALENDAR
