BEGIN:VCALENDAR
VERSION:2.0
PRODID:-//Plone.org//NONSGML plone.app.event//EN
X-WR-TIMEZONE:Europe/Rome
BEGIN:VEVENT
SUMMARY:Incontro FEDERSPEV
DTSTART;TZID=Europe/Rome;VALUE=DATE-TIME:20190322T170000
DTEND;TZID=Europe/Rome;VALUE=DATE-TIME:20190322T190000
DTSTAMP;VALUE=DATE-TIME:20260421T121918Z
UID:096bdf17730047c0bcc9a7fa85463509
CATEGORIES:Incontro
CATEGORIES:Agenda dell'Arcivescovo
CREATED;VALUE=DATE-TIME:20190212T095735Z
LAST-MODIFIED;VALUE=DATE-TIME:20190212T095740Z
LOCATION:Suore Domenicane - Bari
URL:https://www.arcidiocesibaribitonto.it/events/incontro-federspev
END:VEVENT
BEGIN:VTIMEZONE
TZID:Europe/Rome
X-LIC-LOCATION:Europe/Rome
BEGIN:STANDARD
DTSTART;VALUE=DATE-TIME:20181028T020000
TZNAME:CET
TZOFFSETFROM:+0200
TZOFFSETTO:+0100
END:STANDARD
END:VTIMEZONE
END:VCALENDAR
