BEGIN:VCALENDAR
VERSION:2.0
PRODID:-//Plone.org//NONSGML plone.app.event//EN
X-WR-TIMEZONE:Europe/Rome
BEGIN:VEVENT
SUMMARY:Incontro Nicolaiano
DTSTART;TZID=Europe/Rome;VALUE=DATE-TIME:20161216T203000
DTEND;TZID=Europe/Rome;VALUE=DATE-TIME:20161216T213000
DTSTAMP;VALUE=DATE-TIME:20260420T024024Z
UID:9f75182a1bc4472c95f1f7349a7dd152
CATEGORIES:Agenda dell'Arcivescovo
CATEGORIES:Incontro
CREATED;VALUE=DATE-TIME:20161118T134603Z
LAST-MODIFIED;VALUE=DATE-TIME:20161118T134610Z
LOCATION:Casa Cascella - Bari
URL:https://www.arcidiocesibaribitonto.it/events/incontro-nicolaiano
END:VEVENT
BEGIN:VTIMEZONE
TZID:Europe/Rome
X-LIC-LOCATION:Europe/Rome
BEGIN:STANDARD
DTSTART;VALUE=DATE-TIME:20161030T020000
TZNAME:CET
TZOFFSETFROM:+0200
TZOFFSETTO:+0100
END:STANDARD
END:VTIMEZONE
END:VCALENDAR
