BEGIN:VCALENDAR
VERSION:2.0
PRODID:-//Plone.org//NONSGML plone.app.event//EN
X-WR-TIMEZONE:Europe/Rome
BEGIN:VEVENT
SUMMARY:Incontro per i Referenti di Pastorale Giovanile
DTSTART;TZID=Europe/Rome;VALUE=DATE-TIME:20111008T164500
DTEND;TZID=Europe/Rome;VALUE=DATE-TIME:20111008T183000
DTSTAMP;VALUE=DATE-TIME:20260422T101850Z
UID:caf09dc0e6c449383c1f502219b14f53
CATEGORIES:Incontro-formazione
CREATED;VALUE=DATE-TIME:20111005T135747Z
DESCRIPTION:Presso il salone della Casa del Clero
LAST-MODIFIED;VALUE=DATE-TIME:20121008T040941Z
LOCATION:Casa del Clero - Bari
URL:https://www.arcidiocesibaribitonto.it/events/incontro-per-i-referenti-
 di-pastorale-giovanile
END:VEVENT
BEGIN:VTIMEZONE
TZID:Europe/Rome
X-LIC-LOCATION:Europe/Rome
BEGIN:DAYLIGHT
DTSTART;VALUE=DATE-TIME:20110327T030000
TZNAME:CEST
TZOFFSETFROM:+0100
TZOFFSETTO:+0200
END:DAYLIGHT
END:VTIMEZONE
END:VCALENDAR
